BEGIN:VCALENDAR
VERSION:2.0
PRODID:-//dhtmlXScheduler//NONSGML v2.2//EN
X-WR-CALNAME:Wydarzenia
BEGIN:VEVENT
DTSTART:20260505T100000
DTEND:20260505T130000
UID:0
SUMMARY:Odkryj swój potencjał – analiza talentów Extended DISC
END:VEVENT
END:VCALENDAR