BEGIN:VCALENDAR
VERSION:2.0
PRODID:-//dhtmlXScheduler//NONSGML v2.2//EN
X-WR-CALNAME:Wydarzenia
BEGIN:VEVENT
DTSTART:20250826T100000
DTEND:20250826T113000
UID:1
SUMMARY:WEBINAR: Samosterowność – kompetencja, która przekłada cele w działanie
END:VEVENT
END:VCALENDAR