BEGIN:VCALENDAR
VERSION:2.0
PRODID:-//dhtmlXScheduler//NONSGML v2.2//EN
X-WR-CALNAME:Wydarzenia
BEGIN:VEVENT
DTSTART:20240424T140000
DTEND:20240424T160000
UID:1
SUMMARY:Szkolenie "Umowy o współpracę pomiędzy zleceniodawcą a zleceniobiorcą oraz umowa o prawa autorskie"
END:VEVENT
END:VCALENDAR