BEGIN:VCALENDAR
VERSION:2.0
PRODID:-//dhtmlXScheduler//NONSGML v2.2//EN
X-WR-CALNAME:Wydarzenia
BEGIN:VEVENT
DTSTART:20240319T120000
DTEND:20240319T130000
UID:1
SUMMARY:Szkolenie: Zarządzanie emocjami. Jak radzić sobie z trudnymi emocjami, zanim przejmą nad Tobą kontrolę
END:VEVENT
END:VCALENDAR