BEGIN:VCALENDAR
VERSION:2.0
PRODID:-//dhtmlXScheduler//NONSGML v2.2//EN
X-WR-CALNAME:Wydarzenia
BEGIN:VEVENT
DTSTART:20240312T120000
DTEND:20240312T130000
UID:1
SUMMARY:Szkolenie: Wyzwania studenckie, a rozwój pewności siebie. Jak radzić sobie z presją i oczekiwaniami
END:VEVENT
END:VCALENDAR