BEGIN:VCALENDAR
VERSION:2.0
PRODID:-//dhtmlXScheduler//NONSGML v2.2//EN
X-WR-CALNAME:Wydarzenia
BEGIN:VEVENT
DTSTART:20240416T120000
DTEND:20240416T130000
UID:1
SUMMARY:Szkolenie: Asertywność na kampusie. Jak stawiać granice i nie pozwolić innym ich przekraczać
END:VEVENT
END:VCALENDAR