BEGIN:VCALENDAR
VERSION:2.0
PRODID:-//dhtmlXScheduler//NONSGML v2.2//EN
X-WR-CALNAME:Wydarzenia
BEGIN:VEVENT
DTSTART:20241113T110000
DTEND:20241113T113000
UID:1
SUMMARY:Przygotowanie mentalne do egzaminów, zawodów, wystąpień publicznych wg metody 5P Jima Taylora
END:VEVENT
END:VCALENDAR