BEGIN:VCALENDAR
VERSION:2.0
PRODID:-//dhtmlXScheduler//NONSGML v2.2//EN
X-WR-CALNAME:Wydarzenia
BEGIN:VEVENT
DTSTART:20240813T100000
DTEND:20240813T120000
UID:1
SUMMARY:Nordic walkin z doradcą zawodowym
END:VEVENT
END:VCALENDAR