BEGIN:VCALENDAR
VERSION:2.0
PRODID:-//dhtmlXScheduler//NONSGML v2.2//EN
X-WR-CALNAME:Wydarzenia
BEGIN:VEVENT
DTSTART:20260428T120000
DTEND:20260428T133000
UID:1
SUMMARY:LinkedIn: Od profilu do współpracy
END:VEVENT
END:VCALENDAR