BEGIN:VCALENDAR
VERSION:2.0
PRODID:-//dhtmlXScheduler//NONSGML v2.2//EN
X-WR-CALNAME:Wydarzenia
BEGIN:VEVENT
DTSTART:20250612T130000
DTEND:20250612T153000
UID:1
SUMMARY:Gala Konkursu na "Najlepszego pracodawcę woj. łodzkiego według studentów PŁ" oraz zakończenie I edycji Programu Mentoringowego "Siła wspólnoty"
END:VEVENT
END:VCALENDAR