BEGIN:VCALENDAR
VERSION:2.0
PRODID:-//dhtmlXScheduler//NONSGML v2.2//EN
X-WR-CALNAME:Wydarzenia
BEGIN:VEVENT
DTSTART:20250701T100000
DTEND:20250701T113000
UID:0
SUMMARY:WEBINAR: Rezyliencja – jak wzmacniać odporność psychiczną w zmiennym świecie.
END:VEVENT
BEGIN:VEVENT
DTSTART:20250715T100000
DTEND:20250715T113000
UID:1
SUMMARY:WEBINAR: Myślenie analityczne i krytyczne
END:VEVENT
BEGIN:VEVENT
DTSTART:20250729T100000
DTEND:20250729T113000
UID:2
SUMMARY:WEBINAR: Empatia i inteligencja emocjonalna – droga do porozumienia
END:VEVENT
END:VCALENDAR