BEGIN:VCALENDAR
VERSION:2.0
PRODID:-//dhtmlXScheduler//NONSGML v2.2//EN
X-WR-CALNAME:Wydarzenia
BEGIN:VEVENT
DTSTART:20250210T000000
DTEND:20250210T000000
UID:0
SUMMARY:Koniec rekrutacji Studentów (kandydatów na Mentee) do Programu Mentoringowego PŁ "Siła wspólnoty"
END:VEVENT
BEGIN:VEVENT
DTSTART:20250216T000000
DTEND:20250216T000000
UID:1
SUMMARY:Koniec zgłoszeń pracodawców do Hackathonu 2025
END:VEVENT
END:VCALENDAR